Package: NetActivity Version: 1.8.0 Command: F:\biocbuild\bbs-3.20-bioc\R\bin\R.exe CMD INSTALL NetActivity StartedAt: 2025-01-30 16:01:00 -0500 (Thu, 30 Jan 2025) EndedAt: 2025-01-30 16:01:29 -0500 (Thu, 30 Jan 2025) EllapsedTime: 29.3 seconds RetCode: 0 Status: OK