Package: NetActivity Version: 1.8.0 Command: /home/biocbuild/R/R/bin/R CMD build --keep-empty-dirs --no-resave-data NetActivity StartedAt: 2025-01-31 01:20:29 -0000 (Fri, 31 Jan 2025) EndedAt: 2025-01-31 01:21:42 -0000 (Fri, 31 Jan 2025) EllapsedTime: 73.0 seconds RetCode: 0 Status: OK PackageFile: NetActivity_1.8.0.tar.gz PackageFileSize: 420.4 KiB