Package: NetActivity Version: 1.8.0 Command: /home/biocbuild/R/R/bin/R CMD check --install=check:NetActivity.install-out.txt --library=/home/biocbuild/R/R/site-library --no-vignettes --timings NetActivity_1.8.0.tar.gz StartedAt: 2025-01-31 08:38:52 -0000 (Fri, 31 Jan 2025) EndedAt: 2025-01-31 08:43:04 -0000 (Fri, 31 Jan 2025) EllapsedTime: 251.3 seconds RetCode: 0 Status: OK CheckDir: NetActivity.Rcheck Warnings: 0