Package: NetActivity Version: 1.8.0 Command: /home/biocbuild/R/R/bin/R CMD INSTALL NetActivity StartedAt: 2025-01-30 20:22:47 -0000 (Thu, 30 Jan 2025) EndedAt: 2025-01-30 20:23:15 -0000 (Thu, 30 Jan 2025) EllapsedTime: 28.3 seconds RetCode: 0 Status: OK