Package: NetPathMiner Version: 1.42.0 Command: /Library/Frameworks/R.framework/Resources/bin/R CMD build --keep-empty-dirs --no-resave-data NetPathMiner StartedAt: 2025-02-04 04:40:54 -0500 (Tue, 04 Feb 2025) EndedAt: 2025-02-04 04:41:29 -0500 (Tue, 04 Feb 2025) EllapsedTime: 34.2 seconds RetCode: 0 Status: OK PackageFile: NetPathMiner_1.42.0.tar.gz PackageFileSize: 2.466 MiB