Package: NetPathMiner Version: 1.42.0 Command: /Library/Frameworks/R.framework/Resources/bin/R CMD check --install=check:NetPathMiner.install-out.txt --library=/Library/Frameworks/R.framework/Resources/library --no-vignettes --timings NetPathMiner_1.42.0.tar.gz StartedAt: 2025-02-05 03:53:06 -0500 (Wed, 05 Feb 2025) EndedAt: 2025-02-05 03:54:15 -0500 (Wed, 05 Feb 2025) EllapsedTime: 69.1 seconds RetCode: 0 Status: OK CheckDir: NetPathMiner.Rcheck Warnings: 0