Package: NetPathMiner Version: 1.42.0 Command: rm -rf NetPathMiner.buildbin-libdir && mkdir NetPathMiner.buildbin-libdir && /Users/biocbuild/BBS/utils/build-universal.sh NetPathMiner_1.42.0.tar.gz /Library/Frameworks/R.framework/Resources/bin/R NetPathMiner.buildbin-libdir StartedAt: 2025-02-11 13:58:55 -0500 (Tue, 11 Feb 2025) EndedAt: 2025-02-11 13:59:43 -0500 (Tue, 11 Feb 2025) EllapsedTime: 48.6 seconds RetCode: 0 Status: OK PackageFile: NetPathMiner_1.42.0.tgz PackageFileSize: 2.608 MiB