Package: NetPathMiner Version: 1.42.0 Command: /home/biocbuild/R/R/bin/R CMD build --keep-empty-dirs --no-resave-data NetPathMiner StartedAt: 2025-02-04 01:24:39 -0000 (Tue, 04 Feb 2025) EndedAt: 2025-02-04 01:25:12 -0000 (Tue, 04 Feb 2025) EllapsedTime: 33.0 seconds RetCode: 0 Status: OK PackageFile: NetPathMiner_1.42.0.tar.gz PackageFileSize: 1.428 MiB