Package: NeuCA Version: 1.12.0 Command: /Library/Frameworks/R.framework/Resources/bin/R CMD build --keep-empty-dirs --no-resave-data NeuCA StartedAt: 2025-02-18 04:40:12 -0500 (Tue, 18 Feb 2025) EndedAt: 2025-02-18 04:41:13 -0500 (Tue, 18 Feb 2025) EllapsedTime: 60.8 seconds RetCode: 1 Status: ERROR PackageFile: None PackageFileSize: NA