Package: NoRCE
Version: 1.18.0
Command: rm -rf NoRCE.buildbin-libdir && mkdir NoRCE.buildbin-libdir && /Users/biocbuild/BBS/utils/build-universal.sh NoRCE_1.18.0.tar.gz /Library/Frameworks/R.framework/Resources/bin/R NoRCE.buildbin-libdir
StartedAt: 2025-02-14 15:21:40 -0500 (Fri, 14 Feb 2025)
EndedAt: 2025-02-14 15:23:25 -0500 (Fri, 14 Feb 2025)
EllapsedTime: 105.5 seconds
RetCode: 0
Status: OK
PackageFile: NoRCE_1.18.0.tgz
PackageFileSize: 2.361 <A href="http://en.wikipedia.org/wiki/MiB" target="_blank">MiB</A>