Package: OGRE Version: 1.10.0 Command: /Library/Frameworks/R.framework/Resources/bin/R CMD build --keep-empty-dirs --no-resave-data OGRE StartedAt: 2025-02-04 04:52:24 -0500 (Tue, 04 Feb 2025) EndedAt: 2025-02-04 04:54:27 -0500 (Tue, 04 Feb 2025) EllapsedTime: 122.3 seconds RetCode: 0 Status: OK PackageFile: OGRE_1.10.0.tar.gz PackageFileSize: 1.73 MiB