Package: OGRE Version: 1.10.0 Command: F:\biocbuild\bbs-3.20-bioc\R\bin\R.exe CMD INSTALL OGRE StartedAt: 2025-02-03 16:58:58 -0500 (Mon, 03 Feb 2025) EndedAt: 2025-02-03 17:00:02 -0500 (Mon, 03 Feb 2025) EllapsedTime: 63.6 seconds RetCode: 0 Status: OK