Package: OGRE Version: 1.10.0 Command: /home/biocbuild/R/R/bin/R CMD check --install=check:OGRE.install-out.txt --library=/home/biocbuild/R/R/site-library --no-vignettes --timings OGRE_1.10.0.tar.gz StartedAt: 2025-02-04 09:28:10 -0000 (Tue, 04 Feb 2025) EndedAt: 2025-02-04 09:38:05 -0000 (Tue, 04 Feb 2025) EllapsedTime: 595.1 seconds RetCode: 0 Status: OK CheckDir: OGRE.Rcheck Warnings: 0