Package: OLIN Version: 1.84.0 Command: /Library/Frameworks/R.framework/Resources/bin/R CMD check --install=check:OLIN.install-out.txt --library=/Library/Frameworks/R.framework/Resources/library --no-vignettes --timings OLIN_1.84.0.tar.gz StartedAt: 2025-02-05 04:14:11 -0500 (Wed, 05 Feb 2025) EndedAt: 2025-02-05 04:15:16 -0500 (Wed, 05 Feb 2025) EllapsedTime: 64.5 seconds RetCode: 0 Status: OK CheckDir: OLIN.Rcheck Warnings: 0