Package: OLIN
Version: 1.84.0
Command: /Library/Frameworks/R.framework/Resources/bin/R CMD INSTALL OLIN
StartedAt: 2025-02-17 15:13:52 -0500 (Mon, 17 Feb 2025)
EndedAt: 2025-02-17 15:13:58 -0500 (Mon, 17 Feb 2025)
EllapsedTime: 6.1 seconds
RetCode: 0
Status: OK