Package: OLIN Version: 1.84.0 Command: /home/biocbuild/R/R/bin/R CMD build --keep-empty-dirs --no-resave-data OLIN StartedAt: 2024-11-20 02:39:01 -0000 (Wed, 20 Nov 2024) EndedAt: 2024-11-20 02:39:49 -0000 (Wed, 20 Nov 2024) EllapsedTime: 48.1 seconds RetCode: 0 Status: OK PackageFile: OLIN_1.84.0.tar.gz PackageFileSize: 2.547 MiB