Package: OLIN Version: 1.84.0 Command: F:\biocbuild\bbs-3.20-bioc\R\bin\R.exe CMD INSTALL OLIN StartedAt: 2025-02-17 15:29:40 -0500 (Mon, 17 Feb 2025) EndedAt: 2025-02-17 15:30:18 -0500 (Mon, 17 Feb 2025) EllapsedTime: 37.3 seconds RetCode: 0 Status: OK