Package: OLIN
Version: 1.84.0
Command: /home/biocbuild/bbs-3.20-bioc/R/bin/R CMD INSTALL OLIN
StartedAt: 2024-11-19 15:23:58 -0500 (Tue, 19 Nov 2024)
EndedAt: 2024-11-19 15:24:01 -0500 (Tue, 19 Nov 2024)
EllapsedTime: 3.1 seconds
RetCode: 0
Status: OK