Package: OLINgui Version: 1.80.0 Command: rm -rf OLINgui.buildbin-libdir && mkdir OLINgui.buildbin-libdir && /Users/biocbuild/BBS/utils/build-universal.sh OLINgui_1.80.0.tar.gz /Library/Frameworks/R.framework/Resources/bin/R OLINgui.buildbin-libdir StartedAt: 2025-02-05 16:59:38 -0500 (Wed, 05 Feb 2025) EndedAt: 2025-02-05 16:59:45 -0500 (Wed, 05 Feb 2025) EllapsedTime: 7.6 seconds RetCode: 0 Status: OK PackageFile: OLINgui_1.80.0.tgz PackageFileSize: 363.8 KiB