Package: OLINgui Version: 1.80.0 Command: /Library/Frameworks/R.framework/Resources/bin/R CMD check --install=check:OLINgui.install-out.txt --library=/Library/Frameworks/R.framework/Resources/library --no-vignettes --timings OLINgui_1.80.0.tar.gz StartedAt: 2025-02-05 04:15:16 -0500 (Wed, 05 Feb 2025) EndedAt: 2025-02-05 04:15:59 -0500 (Wed, 05 Feb 2025) EllapsedTime: 42.9 seconds RetCode: 0 Status: OK CheckDir: OLINgui.Rcheck Warnings: 0