Package: OLINgui Version: 1.80.0 Command: /home/biocbuild/bbs-3.20-bioc/R/bin/R CMD check --install=check:OLINgui.install-out.txt --library=/home/biocbuild/bbs-3.20-bioc/R/site-library --timings OLINgui_1.80.0.tar.gz StartedAt: 2025-02-04 00:48:35 -0500 (Tue, 04 Feb 2025) EndedAt: 2025-02-04 00:49:05 -0500 (Tue, 04 Feb 2025) EllapsedTime: 30.0 seconds RetCode: 0 Status: OK CheckDir: OLINgui.Rcheck Warnings: 0