Package: OLINgui Version: 1.80.0 Command: /home/biocbuild/bbs-3.20-bioc/R/bin/R CMD INSTALL OLINgui StartedAt: 2025-02-03 15:17:55 -0500 (Mon, 03 Feb 2025) EndedAt: 2025-02-03 15:18:12 -0500 (Mon, 03 Feb 2025) EllapsedTime: 16.9 seconds RetCode: 0 Status: OK