Package: OLINgui Version: 1.80.0 Command: chmod a+r OLINgui -R && F:\biocbuild\bbs-3.20-bioc\R\bin\R.exe CMD build --keep-empty-dirs --no-resave-data OLINgui StartedAt: 2025-02-03 20:52:40 -0500 (Mon, 03 Feb 2025) EndedAt: 2025-02-03 20:52:59 -0500 (Mon, 03 Feb 2025) EllapsedTime: 19.2 seconds RetCode: 0 Status: OK PackageFile: OLINgui_1.80.0.tar.gz PackageFileSize: 234.4 KiB