Package: OLINgui Version: 1.80.0 Command: /home/biocbuild/R/R/bin/R CMD check --install=check:OLINgui.install-out.txt --library=/home/biocbuild/R/R/site-library --no-vignettes --timings OLINgui_1.80.0.tar.gz StartedAt: 2025-02-04 09:28:33 -0000 (Tue, 04 Feb 2025) EndedAt: 2025-02-04 09:29:13 -0000 (Tue, 04 Feb 2025) EllapsedTime: 40.1 seconds RetCode: 0 Status: WARNINGS CheckDir: OLINgui.Rcheck Warnings: 1