Package: OLINgui Version: 1.80.0 Command: /home/biocbuild/R/R/bin/R CMD INSTALL OLINgui StartedAt: 2025-02-03 20:27:41 -0000 (Mon, 03 Feb 2025) EndedAt: 2025-02-03 20:28:02 -0000 (Mon, 03 Feb 2025) EllapsedTime: 20.9 seconds RetCode: 0 Status: OK