Package: OMICsPCA Version: 1.24.0 Command: rm -rf OMICsPCA.buildbin-libdir && mkdir OMICsPCA.buildbin-libdir && /Users/biocbuild/BBS/utils/build-universal.sh OMICsPCA_1.24.0.tar.gz /Library/Frameworks/R.framework/Resources/bin/R OMICsPCA.buildbin-libdir StartedAt: 2025-02-05 17:00:29 -0500 (Wed, 05 Feb 2025) EndedAt: 2025-02-05 17:01:34 -0500 (Wed, 05 Feb 2025) EllapsedTime: 65.7 seconds RetCode: 0 Status: OK PackageFile: OMICsPCA_1.24.0.tgz PackageFileSize: 7.88 MiB