Package: OMICsPCA Version: 1.24.0 Command: /Library/Frameworks/R.framework/Resources/bin/R CMD build --keep-empty-dirs --no-resave-data OMICsPCA StartedAt: 2025-02-04 04:54:59 -0500 (Tue, 04 Feb 2025) EndedAt: 2025-02-04 04:57:28 -0500 (Tue, 04 Feb 2025) EllapsedTime: 148.2 seconds RetCode: 0 Status: OK PackageFile: OMICsPCA_1.24.0.tar.gz PackageFileSize: 7.787 MiB