Package: OMICsPCA Version: 1.24.0 Command: /Library/Frameworks/R.framework/Resources/bin/R CMD check --install=check:OMICsPCA.install-out.txt --library=/Library/Frameworks/R.framework/Resources/library --no-vignettes --timings OMICsPCA_1.24.0.tar.gz StartedAt: 2025-02-05 04:21:59 -0500 (Wed, 05 Feb 2025) EndedAt: 2025-02-05 04:29:03 -0500 (Wed, 05 Feb 2025) EllapsedTime: 424.1 seconds RetCode: 0 Status: OK CheckDir: OMICsPCA.Rcheck Warnings: 0