Package: OMICsPCA Version: 1.24.0 Command: /Library/Frameworks/R.framework/Resources/bin/R CMD INSTALL OMICsPCA StartedAt: 2025-02-03 18:14:38 -0500 (Mon, 03 Feb 2025) EndedAt: 2025-02-03 18:15:38 -0500 (Mon, 03 Feb 2025) EllapsedTime: 59.2 seconds RetCode: 0 Status: OK