Package: OMICsPCA Version: 1.24.0 Command: /home/biocbuild/bbs-3.20-bioc/R/bin/R CMD INSTALL OMICsPCA StartedAt: 2025-02-03 16:09:08 -0500 (Mon, 03 Feb 2025) EndedAt: 2025-02-03 16:10:08 -0500 (Mon, 03 Feb 2025) EllapsedTime: 60.2 seconds RetCode: 0 Status: OK