Package: OMICsPCA Version: 1.24.0 Command: /home/biocbuild/R/R/bin/R CMD build --keep-empty-dirs --no-resave-data OMICsPCA StartedAt: 2025-02-04 01:32:08 -0000 (Tue, 04 Feb 2025) EndedAt: 2025-02-04 01:35:31 -0000 (Tue, 04 Feb 2025) EllapsedTime: 203.4 seconds RetCode: 0 Status: OK PackageFile: OMICsPCA_1.24.0.tar.gz PackageFileSize: 2.417 MiB