Package: OMICsPCA Version: 1.24.0 Command: /home/biocbuild/R/R/bin/R CMD INSTALL OMICsPCA StartedAt: 2025-02-03 21:23:03 -0000 (Mon, 03 Feb 2025) EndedAt: 2025-02-03 21:24:04 -0000 (Mon, 03 Feb 2025) EllapsedTime: 60.6 seconds RetCode: 0 Status: OK