Package: OPWeight Version: 1.28.0 Command: /home/biocbuild/bbs-3.20-bioc/R/bin/R CMD INSTALL OPWeight StartedAt: 2025-02-03 15:24:14 -0500 (Mon, 03 Feb 2025) EndedAt: 2025-02-03 15:24:19 -0500 (Mon, 03 Feb 2025) EllapsedTime: 4.4 seconds RetCode: 0 Status: OK