Package: OPWeight Version: 1.28.0 Command: chmod a+r OPWeight -R && F:\biocbuild\bbs-3.20-bioc\R\bin\R.exe CMD build --keep-empty-dirs --no-resave-data OPWeight StartedAt: 2025-02-03 20:57:26 -0500 (Mon, 03 Feb 2025) EndedAt: 2025-02-03 21:14:54 -0500 (Mon, 03 Feb 2025) EllapsedTime: 1047.7 seconds RetCode: 0 Status: OK PackageFile: OPWeight_1.28.0.tar.gz PackageFileSize: 317.3 KiB