Package: OPWeight Version: 1.28.0 Command: F:\biocbuild\bbs-3.20-bioc\R\bin\R.exe CMD check --no-multiarch --install=check:OPWeight.install-out.txt --library=F:\biocbuild\bbs-3.20-bioc\R\library --no-vignettes --timings OPWeight_1.28.0.tar.gz StartedAt: 2025-02-04 04:36:47 -0500 (Tue, 04 Feb 2025) EndedAt: 2025-02-04 04:37:56 -0500 (Tue, 04 Feb 2025) EllapsedTime: 69.4 seconds RetCode: 0 Status: OK CheckDir: OPWeight.Rcheck Warnings: 0