Package: OPWeight Version: 1.28.0 Command: /home/biocbuild/R/R/bin/R CMD INSTALL OPWeight StartedAt: 2025-02-03 20:34:31 -0000 (Mon, 03 Feb 2025) EndedAt: 2025-02-03 20:34:36 -0000 (Mon, 03 Feb 2025) EllapsedTime: 5.7 seconds RetCode: 0 Status: OK