Package: ORFhunteR Version: 1.14.0 Command: /Library/Frameworks/R.framework/Resources/bin/R CMD INSTALL ORFhunteR StartedAt: 2025-01-30 16:06:36 -0500 (Thu, 30 Jan 2025) EndedAt: 2025-01-30 16:07:25 -0500 (Thu, 30 Jan 2025) EllapsedTime: 48.8 seconds RetCode: 0 Status: OK