Package: ORFhunteR Version: 1.14.0 Command: /Library/Frameworks/R.framework/Resources/bin/R CMD INSTALL ORFhunteR StartedAt: 2024-11-19 15:20:12 -0500 (Tue, 19 Nov 2024) EndedAt: 2024-11-19 15:21:10 -0500 (Tue, 19 Nov 2024) EllapsedTime: 58.3 seconds RetCode: 0 Status: OK