Package: ORFhunteR Version: 1.14.0 Command: rm -rf ORFhunteR.buildbin-libdir && mkdir ORFhunteR.buildbin-libdir && /Users/biocbuild/BBS/utils/build-universal.sh ORFhunteR_1.14.0.tar.gz /Library/Frameworks/R.framework/Resources/bin/R ORFhunteR.buildbin-libdir StartedAt: 2025-02-04 13:42:18 -0500 (Tue, 04 Feb 2025) EndedAt: 2025-02-04 13:44:53 -0500 (Tue, 04 Feb 2025) EllapsedTime: 154.8 seconds RetCode: 0 Status: OK PackageFile: ORFhunteR_1.14.0.tgz PackageFileSize: 1.452 MiB