Package: ORFhunteR Version: 1.14.0 Command: /Library/Frameworks/R.framework/Resources/bin/R CMD build --keep-empty-dirs --no-resave-data ORFhunteR StartedAt: 2025-01-30 21:35:10 -0500 (Thu, 30 Jan 2025) EndedAt: 2025-01-30 21:40:33 -0500 (Thu, 30 Jan 2025) EllapsedTime: 323.2 seconds RetCode: 0 Status: OK PackageFile: ORFhunteR_1.14.0.tar.gz PackageFileSize: 2.108 MiB