Package: ORFhunteR Version: 1.14.0 Command: /Library/Frameworks/R.framework/Resources/bin/R CMD check --install=check:ORFhunteR.install-out.txt --library=/Library/Frameworks/R.framework/Resources/library --no-vignettes --timings ORFhunteR_1.14.0.tar.gz StartedAt: 2025-01-31 07:38:52 -0500 (Fri, 31 Jan 2025) EndedAt: 2025-01-31 07:48:48 -0500 (Fri, 31 Jan 2025) EllapsedTime: 595.9 seconds RetCode: 0 Status: WARNINGS CheckDir: ORFhunteR.Rcheck Warnings: 1