Package: ORFhunteR Version: 1.14.0 Command: /Library/Frameworks/R.framework/Resources/bin/R CMD INSTALL ORFhunteR StartedAt: 2025-01-30 15:39:23 -0500 (Thu, 30 Jan 2025) EndedAt: 2025-01-30 15:41:03 -0500 (Thu, 30 Jan 2025) EllapsedTime: 100.1 seconds RetCode: 0 Status: OK