Package: ORFhunteR Version: 1.14.0 Command: /home/biocbuild/bbs-3.20-bioc/R/bin/R CMD check --install=check:ORFhunteR.install-out.txt --library=/home/biocbuild/bbs-3.20-bioc/R/site-library --timings ORFhunteR_1.14.0.tar.gz StartedAt: 2025-01-31 00:44:50 -0500 (Fri, 31 Jan 2025) EndedAt: 2025-01-31 00:53:43 -0500 (Fri, 31 Jan 2025) EllapsedTime: 532.8 seconds RetCode: 0 Status: WARNINGS CheckDir: ORFhunteR.Rcheck Warnings: 1