Package: ORFhunteR Version: 1.14.0 Command: /home/biocbuild/bbs-3.20-bioc/R/bin/R CMD INSTALL ORFhunteR StartedAt: 2025-01-30 15:22:36 -0500 (Thu, 30 Jan 2025) EndedAt: 2025-01-30 15:23:21 -0500 (Thu, 30 Jan 2025) EllapsedTime: 44.1 seconds RetCode: 0 Status: OK