Package: ORFhunteR Version: 1.14.0 Command: F:\biocbuild\bbs-3.20-bioc\R\bin\R.exe CMD check --no-multiarch --install=check:ORFhunteR.install-out.txt --library=F:\biocbuild\bbs-3.20-bioc\R\library --no-vignettes --timings ORFhunteR_1.14.0.tar.gz StartedAt: 2025-01-31 04:47:47 -0500 (Fri, 31 Jan 2025) EndedAt: 2025-01-31 04:54:07 -0500 (Fri, 31 Jan 2025) EllapsedTime: 379.5 seconds RetCode: 0 Status: WARNINGS CheckDir: ORFhunteR.Rcheck Warnings: 1