Package: ORFhunteR Version: 1.14.0 Command: /home/biocbuild/R/R/bin/R CMD build --keep-empty-dirs --no-resave-data ORFhunteR StartedAt: 2025-01-31 01:33:21 -0000 (Fri, 31 Jan 2025) EndedAt: 2025-01-31 01:36:55 -0000 (Fri, 31 Jan 2025) EllapsedTime: 213.4 seconds RetCode: 0 Status: OK PackageFile: ORFhunteR_1.14.0.tar.gz PackageFileSize: 2.131 MiB