Package: ORFhunteR Version: 1.14.0 Command: /home/biocbuild/R/R/bin/R CMD INSTALL ORFhunteR StartedAt: 2025-01-30 20:27:49 -0000 (Thu, 30 Jan 2025) EndedAt: 2025-01-30 20:28:44 -0000 (Thu, 30 Jan 2025) EllapsedTime: 55.4 seconds RetCode: 0 Status: OK