Package: OTUbase Version: 1.56.0 Command: rm -rf OTUbase.buildbin-libdir && mkdir OTUbase.buildbin-libdir && /Users/biocbuild/BBS/utils/build-universal.sh OTUbase_1.56.0.tar.gz /Library/Frameworks/R.framework/Resources/bin/R OTUbase.buildbin-libdir StartedAt: 2025-02-05 17:03:13 -0500 (Wed, 05 Feb 2025) EndedAt: 2025-02-05 17:03:54 -0500 (Wed, 05 Feb 2025) EllapsedTime: 40.6 seconds RetCode: 0 Status: OK PackageFile: OTUbase_1.56.0.tgz PackageFileSize: 556.4 KiB