Package: OTUbase Version: 1.56.0 Command: rm -rf OTUbase.buildbin-libdir && mkdir OTUbase.buildbin-libdir && /Users/biocbuild/BBS/utils/build-universal.sh OTUbase_1.56.0.tar.gz /Library/Frameworks/R.framework/Resources/bin/R OTUbase.buildbin-libdir StartedAt: 2025-02-04 13:42:52 -0500 (Tue, 04 Feb 2025) EndedAt: 2025-02-04 13:44:51 -0500 (Tue, 04 Feb 2025) EllapsedTime: 118.8 seconds RetCode: 0 Status: OK PackageFile: OTUbase_1.56.0.tgz PackageFileSize: 556.6 KiB