Package: OTUbase Version: 1.56.0 Command: /Library/Frameworks/R.framework/Resources/bin/R CMD check --install=check:OTUbase.install-out.txt --library=/Library/Frameworks/R.framework/Resources/library --no-vignettes --timings OTUbase_1.56.0.tar.gz StartedAt: 2025-02-04 07:37:48 -0500 (Tue, 04 Feb 2025) EndedAt: 2025-02-04 07:46:16 -0500 (Tue, 04 Feb 2025) EllapsedTime: 507.4 seconds RetCode: 0 Status: OK CheckDir: OTUbase.Rcheck Warnings: 0